BEGIN:VCALENDAR
VERSION:2.0
PRODID:-//wp-events-plugin.com//7.2.3.1//EN
BEGIN:VEVENT
UID:193@morayartcentre.org
DTSTART:20250818T093000Z
DTEND:20250820T163000Z
DTSTAMP:20250213T163949Z
URL:https://morayartcentre.org/events/cyanotypes/
SUMMARY:Cyanotypes
DESCRIPTION:This is a fun three day workshop where you will learn the art o
 f cyanotype photograms!
ATTACH;FMTTYPE=image/jpeg:https://morayartcentre.org/wp-content/uploads/20
 25/01/2025-Cyanotype-Summer-School-photo.jpg
CATEGORIES:Easter &amp; Summer School
LOCATION:Moray Art Centre\, Field of Dreams\, Findhorn\, Forres\, Moray\, I
 V36 3TA\, Scotland\, United Kingdom
GEO:57.653616;-3.590018
X-APPLE-STRUCTURED-LOCATION;VALUE=URI;X-ADDRESS=Field of Dreams\, Findhorn\
 , Forres\, Moray\, IV36 3TA\, Scotland\, United Kingdom;X-APPLE-RADIUS=100
 ;X-TITLE=Moray Art Centre:geo:57.653616,-3.590018
END:VEVENT
END:VCALENDAR