BEGIN:VCALENDAR
VERSION:2.0
PRODID:-//wp-events-plugin.com//7.2.3.1//EN
BEGIN:VEVENT
UID:187@morayartcentre.org
DTSTART:20250714T093000Z
DTEND:20250718T163000Z
DTSTAMP:20250213T163740Z
URL:https://morayartcentre.org/events/find-your-freedom-in-abstraction/
SUMMARY:Find Your Freedom in Abstraction
DESCRIPTION:In this course we will learn about creating interesting and dyn
 amic abstract visual elements such as mark making\, line\, tonal value\, s
 pace\, shape making\, shape relationships\, composition\, colour\, paint a
 pplications (thick or thin). 
ATTACH;FMTTYPE=image/jpeg:https://morayartcentre.org/wp-content/uploads/20
 24/12/Screenshot-2024-12-29-at-19.33.13.png
CATEGORIES:Easter &amp; Summer School
LOCATION:Moray Art Centre\, Field of Dreams\, Findhorn\, Forres\, Moray\, I
 V36 3TA\, Scotland\, United Kingdom
GEO:57.653616;-3.590018
X-APPLE-STRUCTURED-LOCATION;VALUE=URI;X-ADDRESS=Field of Dreams\, Findhorn\
 , Forres\, Moray\, IV36 3TA\, Scotland\, United Kingdom;X-APPLE-RADIUS=100
 ;X-TITLE=Moray Art Centre:geo:57.653616,-3.590018
END:VEVENT
END:VCALENDAR