BEGIN:VCALENDAR
VERSION:2.0
PRODID:-//wp-events-plugin.com//7.2.3.1//EN
BEGIN:VEVENT
UID:172@morayartcentre.org
DTSTART:20250811T093000Z
DTEND:20250815T163000Z
DTSTAMP:20250730T215159Z
URL:https://morayartcentre.org/events/large-portrait-in-oils-observation-a
 nd-expression/
SUMMARY:Large Portrait in Oils - Observation and Expression
DESCRIPTION:This course will take students on a journey into colour while p
 ainting the head from life\, exploring portraitraiture and painting with o
 ils!
ATTACH;FMTTYPE=image/jpeg:https://morayartcentre.org/wp-content/uploads/20
 24/11/Le-Riche-Kenneth-06.jpg
CATEGORIES:Easter &amp; Summer School
LOCATION:Moray Art Centre\, Field of Dreams\, Findhorn\, Forres\, Moray\, I
 V36 3TA\, Scotland\, United Kingdom
GEO:57.653616;-3.590018
X-APPLE-STRUCTURED-LOCATION;VALUE=URI;X-ADDRESS=Field of Dreams\, Findhorn\
 , Forres\, Moray\, IV36 3TA\, Scotland\, United Kingdom;X-APPLE-RADIUS=100
 ;X-TITLE=Moray Art Centre:geo:57.653616,-3.590018
END:VEVENT
END:VCALENDAR